Workbook

Sheet Formulář - Žádost 
B1: Žádost o poskytnutí dotace pro rok 2027
A6: Dotační program: | B6: PODPORA AKTIVIT V OBLASTI SPORTU
B8: minimální finanční spoluúčast žadatele: 30 %
A9: Žadatel o dotaci:
A10: IČO/DN:
A11: Sídlo žadatele:
A12: Kontaktní osoba za žadatele: | B12: Titul, jméno, příjmení:
B13: Tel.:
B14: E-mail:
B15: Funkce v organizaci:
A16: *Daňový poradce: | B16: ANO - NE
A18: Název projektu: (max. 35 znaků)
A19: Typ projektu dle DP: II. a), b), c), d)
A21: Požadovaná částka:
A22: Datum konání akce:
A23: Místo realizace projektu:
A24: Popis a cíl projektu:
A25: Cílová skupina:
A26: *informace má pouze informativní charakter
A35: Čestná prohlášení a upozornění pro žadatele:
A37: Čestná prohlášení:
A38: 1. Statutární orgán čestně prohlašuje, že údaje uvedené v této žádosti a přiložených přílohách jsou úplné a pravdivé a že nebyly zatajeny ani upraveny žádné skutečnosti.
A40: 2. Statutární orgán čestně prohlašuje, že organizace ke dni podání žádosti nemá žádné závazky po lhůtě splatnosti ve vztahu ke státnímu rozpočtu, státním fondům, zdravotním pojišťovnám, orgánům sociálního zabezpečení a rozpočtu statutárního města Děčín ani správě daní.
... A48: 6. Statutární orgán potvrzuje, že tuto žádost o dotaci schválil a doporučil k předložení a potvrzuje pravdivost uváděných údajů. Zároveň prohlašuje, že souhlasí se zařazením žádosti do databáze obce a se zveřejněním údajů v žádosti.
A50: Povinné přílohy: | B50: 1. Rozpočet projektu
B51: 2. Výpis z evidence skutečných majitelů
B52: 3. Výpis ze spolkového rejstříku
B53: 4. Potvrzení o zřízení běžného účtu
B54: 5. Kritéria hodnocení
A56: Upozornění pro žadatele:
A57: 1. Statutární město Děčín může po žadateli o dotaci požadovat doložení doplňujících informací, podkladů a dokumentů souvisejících s touto žádostí.
A59: 2. Žadatel o finanční podporu doloží k žádosti o dotaci všechny povinné přílohy.
A60: 3. Statutární město Děčín ve spolupráci se žadatelem vyhodnotí eventuální poskytnutí dotace ve vztahu k možné veřejné podpoře malého rozsahu (tzv. de minimis) dle nařízení Komise (EU) č. 2023/2831 ze dne 13. prosince 2023 o použití článků 107 a 108 Smlouvy o fungování Evropské unie na podporu de minimis.
A61: 4. Žadatel o dotaci podáním této žádosti vyjadřuje souhlas se zpracováním údajů uvedených v této žádosti a doložených přílohách odboru ekonomickému, komisi rady města a orgánům města Děčín.
A62: 5. Žádost je nutné podat elektronicky přes Portál občana na webu https://portal.mmdecin.cz/
A65: Datum:
A67: Jméno a příjmení statutárního zástupce:
A69: Podpis:

Sheet Formulář - Rozpočet
A1: Rozpočet projektu (neinvestiční náklady) na rok 2027
A3: Žadatel: | C3: ='Formulář - Žádost '!B9 -> 0
A4: Název projektu: | C4: ='Formulář - Žádost '!B18 -> 0
A5: Nákladová položka | D5: Předpokládané náklady projektu (v Kč) | E5: Prostředky z jiných zdrojů (v Kč) | F5: Vlastní podíl (v Kč) | G5: Požadavek od statutárního města Děčín (v Kč) | H5: Poskytnutá dotace statutárním městem Děčín (v Kč)
A8: 1. Provozní náklady celkem | D8: =SUM(D9+D16+D39) -> 0 | E8: =SUM(E9+E16+E39) -> 0 | F8: =SUM(F9+F16+F39) -> 0 | G8: =SUM(G9+G16+G39) -> 0 | H8: =SUM(H9+H16+H39) -> 0
A9: 1.1 Materiálové náklady celkem | D9: =SUM(D10:D15) -> 0 | E9: =SUM(E10:E15) -> 0 | F9: =SUM(F10:F15) -> 0 | G9: =SUM(G10:G15) -> 0 | H9: =SUM(H10:H15) -> 0
A10: z toho: | B10: spotřební materiál
B11: věcné ceny
B12: vybavení (DDHM) do 80 tis.
B13: pohonné hmoty
B14: mat. na údržbu (antuka, barvy, hnojivo)
B15: ostatní mat. náklady
A16: 1.2 Nemateriálové náklady celkem | D16: =SUM(D17+D22+D24+D27) -> 0 | E16: =SUM(E17+E22+E24+E27) -> 0 | F16: =SUM(F17+F22+F24+F27) -> 0 | G16: =SUM(G17+G22+G24+G27) -> 0 | H16: =SUM(H17+H22+H24+H27) -> 0
A17: 1.2.1 | B17: Energie | D17: =SUM(D18:D21) -> 0 | E17: =SUM(E18:E21) -> 0 | F17: =SUM(F18:F21) -> 0 | G17: =SUM(G18:G21) -> 0 | H17: =SUM(H18:H21) -> 0
A18: z toho: | B18: elektřina
B19: plyn
B20: vodné, stočné
B21: pevná paliva
A22: 1.2.2 | B22: Opravy a udržování | D22: =SUM(D23:D23) -> 0 | E22: =SUM(E23:E23) -> 0 | F22: =SUM(F23:F23) -> 0 | G22: =SUM(G23:G23) -> 0 | H22: =SUM(H23:H23) -> 0
B23: dodavatelsky (práce, příp.vč. mater.)
A24: 1.2.3 | B24: Cestovné | D24: =SUM(D25:D26) -> 0 | E24: =SUM(E25:E26) -> 0 | F24: =SUM(F25:F26) -> 0 | G24: =SUM(G25:G26) -> 0 | H24: =SUM(H25:H26) -> 0
A25: z toho: | B25: cestovné doprovod
B26: cestovné soutěžící
A27: 1.2.4 | B27: Ostatní služby | D27: =SUM(D28:D38) -> 0 | E27: =SUM(E28:E38) -> 0 | F27: =SUM(F28:F38) -> 0 | G27: =SUM(G28:G38) -> 0 | H27: =SUM(H28:H38) -> 0
A28: z toho: | B28: propagace
B29: nájemné
B30: doprava
B31: ubytování
B32: stravování
B33: pořadatelská služba
B34: startovné
B35: rozhodčí
B36: právní a ekonomické služby
B37: školení a vzdělávání
B38: jiné ostatní služby - konkretizujte
A39: 1.3 Ostatní náklady | D39: =SUM(D40:D43) -> 0 | E39: =SUM(E40:E43) -> 0 | F39: =SUM(F40:F43) -> 0 | G39: =SUM(G40:G43) -> 0 | H39: =SUM(H40:H43) -> 0
A40: z toho: | B40: poplatky (FAČR, aj.)
B41: licenční poplatky (OSA, Dilia)
B42: honoráře umělcům
B43: jiné ostatní náklady - kretizujte
...

Sheet Formulář - Kritéria hodnocení
A1: Povinná příloha k žádosti o poskytnutí dotace v oblasti sportu
A3: Kritéria hodnocení - II. typ Akce a reprezentace
A4: dle Zásad pro poskytování dotací z rozpočtu statutárního města Děčín
A6: Údaje o organizaci, která o příspěvek žádá
A7: Název žadatele | B7: ='Formulář - Žádost '!B9 -> 0
A9: Informace o akci
A10: Název akce | B10: ='Formulář - Žádost '!B18 -> 0
A11: =Data!A1 -> Je akce pořádaná na území Děčína?
A12: =Data!B1 -> Je akce pořádána v objektu, který je v majetku města?
A13: =Data!C1 -> Typ akce v roce
A14: =Data!D1 -> Dlouhodobost - ročník akce
A15: =Data!E1 -> Úroveň akce
A16: =Data!F1 -> Podmíněnost účasti na akcii
A17: =Data!G1 -> Startovné pro soutěžící
A18: =Data!H1 -> Celkový počet soutežícícíh na akci
A19: =Data!I1 -> Počet soutěžících z Děčína do 21 let
A20: =Data!J1 -> Počet soutěžících z Děčína nad 21 let
A21: =Data!K1 -> Počet trenérů realizačního týmu
A22: =Data!L1 -> Počet členů organizačního týmu
A23: Počet přímých diváků v místě akce
A24: Prezentace akce tisk
A25: =Data!O1 -> Prezentace akce soc. média
A26: =Data!P1 -> Prezentace akce TV
A27: =Data!Q1 -> Prezentace akce online stream
A28: =Data!R1 -> Prezentace další (radio, podcast, atd.)
A29: =Data!S1 -> Odhad ekonomického přínosu pro Děčín
A30: =Data!T1 -> Celkový rozpočet akce
A31: =Data!U1 -> Výše žádosti o dotaci
A32: Další poznámky [max. 50 slov]
A34: Poznámka: Po rozkliknutí řádku vyberte možnosti, popř. doplňte požadované

Sheet Data
A1: Je akce pořádaná na území Děčína? | B1: Je akce pořádána v objektu, který je v majetku města? | C1: Typ akce v roce | D1: Dlouhodobost - ročník akce | E1: Úroveň akce | F1: Podmíněnost účasti na akcii | G1: Startovné pro soutěžící | H1: Celkový počet soutežícícíh na akci | I1: Počet soutěžících z Děčína do 21 let | J1: Počet soutěžících z Děčína nad 21 let | K1: Počet trenérů realizačního týmu | L1: Počet členů organizačního týmu | M1: Počet přímých diváků v místě akce | N1: Prezentace akce tisk | O1: Prezentace akce soc. média | P1: Prezentace akce TV | Q1: Prezentace akce online stream | R1: Prezentace další (radio, podcast, atd.) | S1: Odhad ekonomického přínosu pro Děčín | T1: Celkový rozpočet akce | U1: Výše žádosti o dotaci
A2: Ano | B2: Ano | C2: jednorázová akce | D2: 1. ročník | E2: město | F2: přímá nominace | G2: Ano | H2: do 100 | I2: 0 | J2: 0 | K2: 0 | L2: 0 | M2: 0 | N2: Zpravodaj města DC | O2: web | P2: Ano | Q2: Ano
A3: Ne | B3: Ne | C3: série akcí, z nichž jedna se koná v Děčíně | D3: do 5. ročníku | E3: okres | F3: podmíněné přihlášení | G3: Ne | H3: do 500 | I3: 1 | J3: 1 | K3: 1 | L3: 1 | M3: do 50 | N3: regionální listy | O3: FB | P3: Ne | Q3: Ne
C4: série akcí | D4: více než 5 ročníků | E4: kraj | F4: přihlášení | H4: do 1000 | I4: do 5 | J4: do 5 | K4: 2 | L4: 2 | M4: do 100 | N4: celorepubliková média | O4: IN
E5: ČR | H5: více než 1000 | I5: do 10 | J5: do 10 | K5: do 5 | L5: do 10 | M5: do 1000 | O5: Youtube
E6: Evropa | I6: do 20 | J6: do 20 | K6: do 10 | L6: do 20 | M6: do 10000 | O6: X
E7: svět | I7: do 100 | J7: do 100 | K7: nad 10 | L7: nad 20 | M7: nad 10000 | O7: do 3 z uvedených
I8: více než 100 | J8: více než 100 | O8: nad 3 z uvedených
O9: další
